BEGIN:VCALENDAR
VERSION:2.0
PRODID:icalendar-ruby
CALSCALE:GREGORIAN
METHOD:PUBLISH
BEGIN:VTIMEZONE
TZID:America/Los_Angeles
BEGIN:DAYLIGHT
DTSTART:20180311T030000
TZOFFSETFROM:-0800
TZOFFSETTO:-0700
RRULE:FREQ=YEARLY;BYDAY=2SU;BYMONTH=3
TZNAME:PDT
END:DAYLIGHT
BEGIN:STANDARD
DTSTART:20181104T010000
TZOFFSETFROM:-0700
TZOFFSETTO:-0800
RRULE:FREQ=YEARLY;BYDAY=1SU;BYMONTH=11
TZNAME:PST
END:STANDARD
END:VTIMEZONE
BEGIN:VEVENT
DTSTAMP:20260420T082500Z
UID:fd7a70e6-4edb-4126-b789-3568f556136e
DTSTART;TZID=America/Los_Angeles:20180615T070000
DTEND;TZID=America/Los_Angeles:20180615T230000
DESCRIPTION:
LOCATION:Florence\, Metropolitan City of Florence\, Italy
SUMMARY:IRON MAIDEN
URL:http://demo.hiveflare.com/events/iron-maiden--29
END:VEVENT
END:VCALENDAR
