BEGIN:VCALENDAR
VERSION:2.0
PRODID:icalendar-ruby
CALSCALE:GREGORIAN
METHOD:PUBLISH
BEGIN:VTIMEZONE
TZID:America/Los_Angeles
BEGIN:DAYLIGHT
DTSTART:20180311T030000
TZOFFSETFROM:-0800
TZOFFSETTO:-0700
RRULE:FREQ=YEARLY;BYDAY=2SU;BYMONTH=3
TZNAME:PDT
END:DAYLIGHT
BEGIN:STANDARD
DTSTART:20181104T010000
TZOFFSETFROM:-0700
TZOFFSETTO:-0800
RRULE:FREQ=YEARLY;BYDAY=1SU;BYMONTH=11
TZNAME:PST
END:STANDARD
END:VTIMEZONE
BEGIN:VEVENT
DTSTAMP:20260420T110708Z
UID:57e48974-95b5-41c3-a8c4-4f2677589237
DTSTART;TZID=America/Los_Angeles:20180711T070000
DTEND;TZID=America/Los_Angeles:20180711T230000
DESCRIPTION: Lordi Die Finnen LORDI bringen seit Jahren die Bühnen der Welt
  zum Beben (und brachten bei ihrem Balingen-Debüt 2011 die volksbank*messe 
 fast zum Bersten): Mit aufwändiger Kostümierung\, jeder Menge Pyro-Effekten
  und vor allem einem beachtlichen Bündel an Hits. Nachdem die ersten beiden
  Veröffentlichungen 'Get Heavy' und 'The Monsterican Dream' schon in ihrer 
 skandinavischen Heimat für Aufs...
LOCATION:72336 Balingen\, Germany
SUMMARY:Lordi
URL:http://demo.hiveflare.com/events/lordi--3
END:VEVENT
END:VCALENDAR
