BEGIN:VCALENDAR
VERSION:2.0
PRODID:icalendar-ruby
CALSCALE:GREGORIAN
METHOD:PUBLISH
BEGIN:VTIMEZONE
TZID:America/Los_Angeles
BEGIN:DAYLIGHT
DTSTART:20070311T030000
TZOFFSETFROM:-0800
TZOFFSETTO:-0700
RRULE:FREQ=YEARLY;BYDAY=2SU;BYMONTH=3
TZNAME:PDT
END:DAYLIGHT
BEGIN:STANDARD
DTSTART:20071104T010000
TZOFFSETFROM:-0700
TZOFFSETTO:-0800
RRULE:FREQ=YEARLY;BYDAY=1SU;BYMONTH=11
TZNAME:PST
END:STANDARD
END:VTIMEZONE
BEGIN:VEVENT
DTSTAMP:20260419T133832Z
UID:5758502b-e339-47f9-9eae-32e09f346cb9
DTSTART;TZID=America/Los_Angeles:20070808T070000
DTEND;TZID=America/Los_Angeles:20070808T230000
DESCRIPTION:
LOCATION:18300 W Alameda Pkwy\, Morrison\, CO 80465\, USA
SUMMARY:RUSH
URL:http://demo.hiveflare.com/events/rush--8
END:VEVENT
END:VCALENDAR
