BEGIN:VCALENDAR
VERSION:2.0
PRODID:icalendar-ruby
CALSCALE:GREGORIAN
METHOD:PUBLISH
BEGIN:VTIMEZONE
TZID:America/Los_Angeles
BEGIN:DAYLIGHT
DTSTART:20180311T030000
TZOFFSETFROM:-0800
TZOFFSETTO:-0700
RRULE:FREQ=YEARLY;BYDAY=2SU;BYMONTH=3
TZNAME:PDT
END:DAYLIGHT
BEGIN:STANDARD
DTSTART:20181104T010000
TZOFFSETFROM:-0700
TZOFFSETTO:-0800
RRULE:FREQ=YEARLY;BYDAY=1SU;BYMONTH=11
TZNAME:PST
END:STANDARD
END:VTIMEZONE
BEGIN:VEVENT
DTSTAMP:20260420T111010Z
UID:4f206ca8-ff15-480a-8d6b-941dced55bfe
DTSTART;TZID=America/Los_Angeles:20180705T070000
DTEND;TZID=America/Los_Angeles:20180705T230000
DESCRIPTION: JEUDI 5 JUILLET21:30SCÈNE BELL&#13\; Plaines d'Abraham | Laiss
 ez-passer obligatoire&#13\; &#13\; &#13\; Grâce à un charisme indéniable et
  un R&amp\;B langoureux\, cette star canadienne à l’influence mondiale ne c
 esse de conquérir les palmarès tel le Michael Jackson des années 2000. Aprè
 s des collaborations avec des noms comme Drake\, French Montana ou Ariana G
 rande\, le chanteur-musicien d’ori...
LOCATION:205 Boulevard des Cèdres\, Ville de Québec\, QC G1L 1N8\, Canada
SUMMARY:THE WEEKEND
URL:http://demo.hiveflare.com/events/the-weekend
END:VEVENT
END:VCALENDAR
